BEGIN:VCALENDAR
VERSION:2.0
PRODID:-//www.marudot.com//iCal Event Maker
X-WR-CALNAME:interlift 2019
CALSCALE:GREGORIAN
BEGIN:VTIMEZONE
TZID:Europe/Berlin
TZURL:http://tzurl.org/zoneinfo-outlook/Europe/Berlin
X-LIC-LOCATION:Europe/Berlin
BEGIN:DAYLIGHT
TZOFFSETFROM:+0100
TZOFFSETTO:+0200
TZNAME:CEST
DTSTART:19700329T020000
RRULE:FREQ=YEARLY;BYMONTH=3;BYDAY=-1SU
END:DAYLIGHT
BEGIN:STANDARD
TZOFFSETFROM:+0200
TZOFFSETTO:+0100
TZNAME:CET
DTSTART:19701025T030000
RRULE:FREQ=YEARLY;BYMONTH=10;BYDAY=-1SU
END:STANDARD
END:VTIMEZONE
BEGIN:VEVENT
DTSTAMP:20171026T135732Z
UID:20171026T135732Z-1548917961@marudot.com
DTSTART;VALUE=DATE:20191015
DTEND;VALUE=DATE:20191019
SUMMARY:interlift 2019
URL:www.interlift.de
DESCRIPTION:Internationale Fachmesse für Aufzüge\, Komponenten und Zubehör
LOCATION:Messezentrum Augsburg
BEGIN:VALARM
ACTION:DISPLAY
DESCRIPTION:interlift 2019
TRIGGER:-P1W
END:VALARM
END:VEVENT
END:VCALENDAR